BEGIN:VCALENDAR
VERSION:2.0
PRODID:GIGPRESS 2.0 WORDPRESS PLUGIN
CALSCALE:GREGORIAN
X-WR-TIMEZONE:Etc/GMT
METHOD:PUBLISH
BEGIN:VTIMEZONE
TZID:GMT
BEGIN:STANDARD
DTSTART:20071028T010000
TZOFFSETTO:+0000
TZOFFSETFROM:+0000
END:STANDARD
END:VTIMEZONE
BEGIN:VEVENT
SUMMARY:TIM MENZIES at The Ramsey Hotel and Convention Center
DESCRIPTION:Notes: Patterson Music Group 21st Anniversary with Multiple Artists 
LOCATION:The Ramsey Hotel and Convention Center\, 3230 Parkway\, Pigeon Forge\, US
UID:20260504T180000Z-192-thomflora@gmail.com
URL:https://www.timmenzies.com
DTSTART;VALUE=DATE-TIME;TZID=GMT:20260504T180000Z
DTEND;VALUE=DATE-TIME;TZID=GMT:20260504T180000Z
DTSTAMP:20260423T014115Z
END:VEVENT
END:VCALENDAR