BEGIN:VCALENDAR
VERSION:2.0
PRODID:GIGPRESS 2.0 WORDPRESS PLUGIN
CALSCALE:GREGORIAN
X-WR-TIMEZONE:Etc/GMT
METHOD:PUBLISH
BEGIN:VTIMEZONE
TZID:GMT
BEGIN:STANDARD
DTSTART:20071028T010000
TZOFFSETTO:+0000
TZOFFSETFROM:+0000
END:STANDARD
END:VTIMEZONE
BEGIN:VEVENT
SUMMARY:TIM MENZIES at Taylor Chapel
DESCRIPTION:Notes: Private Event 
LOCATION:Taylor Chapel\, 10145 Maysville\, Road\, Ft. Wayne\, US
UID:20260919T110000Z-188-thomflora@gmail.com
URL:https://www.timmenzies.com
DTSTART;VALUE=DATE-TIME;TZID=GMT:20260919T110000Z
DTEND;VALUE=DATE-TIME;TZID=GMT:20260919T110000Z
DTSTAMP:20260423T014336Z
END:VEVENT
END:VCALENDAR