BEGIN:VCALENDAR
VERSION:2.0
X-WR-CALNAME: Upcoming shows
PRODID:GIGPRESS 2.0 WORDPRESS PLUGIN
CALSCALE:GREGORIAN
X-WR-TIMEZONE:Etc/GMT
METHOD:PUBLISH
BEGIN:VTIMEZONE
TZID:GMT
BEGIN:STANDARD
DTSTART:20071028T010000
TZOFFSETTO:+0000
TZOFFSETFROM:+0000
END:STANDARD
END:VTIMEZONE
BEGIN:VEVENT
SUMMARY:TIM MENZIES at Happy Acres Cowboy Church
DESCRIPTION:Notes: The Word &amp\; Song 
LOCATION:Happy Acres Cowboy Church\, 5270 West 171st Street South\, Mounds\, US
UID:20260423T190000Z-176-thomflora@gmail.com
URL:https://www.timmenzies.com
DTSTART;VALUE=DATE-TIME;TZID=GMT:20260423T190000Z
DTEND;VALUE=DATE-TIME;TZID=GMT:20260423T190000Z
DTSTAMP:20260423T013521Z
END:VEVENT
BEGIN:VEVENT
SUMMARY:TIM MENZIES at 5 West Outpost
DESCRIPTION:Notes: The Word &amp\; Song with The Peacemakers 
LOCATION:5 West Outpost\, 5 West 41st Street\, Sand Springs\, US
UID:20260424T190000Z-177-thomflora@gmail.com
URL:https://www.timmenzies.com
DTSTART;VALUE=DATE-TIME;TZID=GMT:20260424T190000Z
DTEND;VALUE=DATE-TIME;TZID=GMT:20260424T190000Z
DTSTAMP:20260423T013521Z
END:VEVENT
BEGIN:VEVENT
SUMMARY:TIM MENZIES at 5 West Outpost
DESCRIPTION:Notes: The Word &amp\; Song with Halo Jordon and The Hargers 
LOCATION:5 West Outpost\, 5 West 41st Street\, Sand Springs\, US
UID:20260425T190000Z-178-thomflora@gmail.com
URL:https://www.timmenzies.com
DTSTART;VALUE=DATE-TIME;TZID=GMT:20260425T190000Z
DTEND;VALUE=DATE-TIME;TZID=GMT:20260425T190000Z
DTSTAMP:20260423T013521Z
END:VEVENT
BEGIN:VEVENT
SUMMARY:TIM MENZIES at Fireside Mounds
DESCRIPTION:Notes: The Word &amp\; Song 
LOCATION:Fireside Mounds\, 216 East 8th Street\, Mounds\, US
UID:20260426T100000Z-195-thomflora@gmail.com
URL:https://www.timmenzies.com
DTSTART;VALUE=DATE-TIME;TZID=GMT:20260426T100000Z
DTEND;VALUE=DATE-TIME;TZID=GMT:20260426T100000Z
DTSTAMP:20260423T013521Z
END:VEVENT
BEGIN:VEVENT
SUMMARY:TIM MENZIES at Freedom Ministries
DESCRIPTION:Notes: The Word &amp\; Song 
LOCATION:Freedom Ministries\, 314 Broad Street\, Sand Springs\, US
UID:20260426T180000Z-196-thomflora@gmail.com
URL:https://www.timmenzies.com
DTSTART;VALUE=DATE-TIME;TZID=GMT:20260426T180000Z
DTEND;VALUE=DATE-TIME;TZID=GMT:20260426T180000Z
DTSTAMP:20260423T013521Z
END:VEVENT
BEGIN:VEVENT
SUMMARY:TIM MENZIES at Island Creek Baptist Church
DESCRIPTION:Notes: The Word &amp\; Song 
LOCATION:Island Creek Baptist Church\, 2505 Highway 411\, Madisonville\, US
UID:20260503T104500Z-179-thomflora@gmail.com
URL:https://www.timmenzies.com
DTSTART;VALUE=DATE-TIME;TZID=GMT:20260503T104500Z
DTEND;VALUE=DATE-TIME;TZID=GMT:20260503T104500Z
DTSTAMP:20260423T013521Z
END:VEVENT
BEGIN:VEVENT
SUMMARY:TIM MENZIES at Center Presbyterian Church
DESCRIPTION:Notes: The Word &amp\; Song 
LOCATION:Center Presbyterian Church\, 6265 TN 360\, Tellico Plains\, US
UID:20260503T170000Z-180-thomflora@gmail.com
URL:https://www.timmenzies.com
DTSTART;VALUE=DATE-TIME;TZID=GMT:20260503T170000Z
DTEND;VALUE=DATE-TIME;TZID=GMT:20260503T170000Z
DTSTAMP:20260423T013521Z
END:VEVENT
BEGIN:VEVENT
SUMMARY:TIM MENZIES at The Ramsey Hotel and Convention Center
DESCRIPTION:Notes: Patterson Music Group 21st Anniversary with Multiple Artists 
LOCATION:The Ramsey Hotel and Convention Center\, 3230 Parkway\, Pigeon Forge\, US
UID:20260504T180000Z-192-thomflora@gmail.com
URL:https://www.timmenzies.com
DTSTART;VALUE=DATE-TIME;TZID=GMT:20260504T180000Z
DTEND;VALUE=DATE-TIME;TZID=GMT:20260504T180000Z
DTSTAMP:20260423T013521Z
END:VEVENT
BEGIN:VEVENT
SUMMARY:TIM MENZIES at The Ramsey Hotel and Convention Center
DESCRIPTION:Notes: Patterson Music Group 21st Anniversary with Multiple Artists 
LOCATION:The Ramsey Hotel and Convention Center\, 3230 Parkway\, Pigeon Forge\, US
UID:20260505T180000Z-193-thomflora@gmail.com
URL:https://www.timmenzies.com
DTSTART;VALUE=DATE-TIME;TZID=GMT:20260505T180000Z
DTEND;VALUE=DATE-TIME;TZID=GMT:20260505T180000Z
DTSTAMP:20260423T013521Z
END:VEVENT
BEGIN:VEVENT
SUMMARY:TIM MENZIES at Wallonia Baptist Church
DESCRIPTION:Notes: The Word &amp\; Song 
LOCATION:Wallonia Baptist Church\, 5350 N. Rocky Ridge Road\, Cadiz\, US
UID:20260614T100000Z-181-thomflora@gmail.com
URL:https://www.timmenzies.com
DTSTART;VALUE=DATE-TIME;TZID=GMT:20260614T100000Z
DTEND;VALUE=DATE-TIME;TZID=GMT:20260614T100000Z
DTSTAMP:20260423T013521Z
END:VEVENT
BEGIN:VEVENT
SUMMARY:TIM MENZIES at Victory Baptist Church
DESCRIPTION:Notes: The Word &amp\; Song 
LOCATION:Victory Baptist Church\, 2456 Mayfield Road\, Wickliffe\, US
UID:20260614T170000Z-182-thomflora@gmail.com
URL:https://www.timmenzies.com
DTSTART;VALUE=DATE-TIME;TZID=GMT:20260614T170000Z
DTEND;VALUE=DATE-TIME;TZID=GMT:20260614T170000Z
DTSTAMP:20260423T013521Z
END:VEVENT
BEGIN:VEVENT
SUMMARY:TIM MENZIES at Christ Baptist Church
DESCRIPTION:Notes: The Word &amp\; Song 
LOCATION:Christ Baptist Church\, 321 6th Street\, North Vernon\, US
UID:20260627T180000Z-183-thomflora@gmail.com
URL:https://www.timmenzies.com
DTSTART;VALUE=DATE-TIME;TZID=GMT:20260627T180000Z
DTEND;VALUE=DATE-TIME;TZID=GMT:20260627T180000Z
DTSTAMP:20260423T013521Z
END:VEVENT
BEGIN:VEVENT
SUMMARY:TIM MENZIES at Drennon Christian Church
DESCRIPTION:Notes: Baptism Sunday with The Word &amp\; Song 
LOCATION:Drennon Christian Church\, 9216 Drennon Road\, Campbellsburg\, US
UID:20260628T110000Z-184-thomflora@gmail.com
URL:https://www.timmenzies.com
DTSTART;VALUE=DATE-TIME;TZID=GMT:20260628T110000Z
DTEND;VALUE=DATE-TIME;TZID=GMT:20260628T110000Z
DTSTAMP:20260423T013521Z
END:VEVENT
BEGIN:VEVENT
SUMMARY:TIM MENZIES at Franklinton Baptist Church
DESCRIPTION:Notes: The Word &amp\; Song 
LOCATION:Franklinton Baptist Church\, 7681 Point Pleasant Road\, Pleasureville\, US
UID:20260628T183000Z-185-thomflora@gmail.com
URL:https://www.timmenzies.com
DTSTART;VALUE=DATE-TIME;TZID=GMT:20260628T183000Z
DTEND;VALUE=DATE-TIME;TZID=GMT:20260628T183000Z
DTSTAMP:20260423T013521Z
END:VEVENT
BEGIN:VEVENT
SUMMARY:TIM MENZIES at Taylor Chapel
DESCRIPTION:Notes: Private Event 
LOCATION:Taylor Chapel\, 10145 Maysville\, Road\, Ft. Wayne\, US
UID:20260919T110000Z-188-thomflora@gmail.com
URL:https://www.timmenzies.com
DTSTART;VALUE=DATE-TIME;TZID=GMT:20260919T110000Z
DTEND;VALUE=DATE-TIME;TZID=GMT:20260919T110000Z
DTSTAMP:20260423T013521Z
END:VEVENT
BEGIN:VEVENT
SUMMARY:TIM MENZIES at Big Creek Baptist Church
DESCRIPTION:Notes: The Word &amp\; Song - Pastor Appreciation Day! 
LOCATION:Big Creek Baptist Church\, 109 Big Creek Cemetary Road\, Madisonville\, US
UID:20261025T104500Z-189-thomflora@gmail.com
URL:https://www.timmenzies.com
DTSTART;VALUE=DATE-TIME;TZID=GMT:20261025T104500Z
DTEND;VALUE=DATE-TIME;TZID=GMT:20261025T104500Z
DTSTAMP:20260423T013521Z
END:VEVENT
BEGIN:VEVENT
SUMMARY:TIM MENZIES at 5 West Outpost
DESCRIPTION:Notes: The Word &amp\; Song 
LOCATION:5 West Outpost\, 5 West 41st Street\, Sand Springs\, US
UID:20261106T190000Z-190-thomflora@gmail.com
URL:https://www.timmenzies.com
DTSTART;VALUE=DATE-TIME;TZID=GMT:20261106T190000Z
DTEND;VALUE=DATE-TIME;TZID=GMT:20261106T190000Z
DTSTAMP:20260423T013521Z
END:VEVENT
BEGIN:VEVENT
SUMMARY:TIM MENZIES at 5 West Outpost
DESCRIPTION:Notes: The Word &amp\; Song with Halo Jordan 
LOCATION:5 West Outpost\, 5 West 41st Street\, Sand Springs\, US
UID:20261107T190000Z-191-thomflora@gmail.com
URL:https://www.timmenzies.com
DTSTART;VALUE=DATE-TIME;TZID=GMT:20261107T190000Z
DTEND;VALUE=DATE-TIME;TZID=GMT:20261107T190000Z
DTSTAMP:20260423T013521Z
END:VEVENT
END:VCALENDAR